BEGIN:VCALENDAR
VERSION:2.0
PRODID:-//ÉAUZE CULTURE LOISIRS ANIMATIONS - ECPv6.15.20//NONSGML v1.0//EN
CALSCALE:GREGORIAN
METHOD:PUBLISH
X-ORIGINAL-URL:https://www.eauze-ecla.org
X-WR-CALDESC:Évènements pour ÉAUZE CULTURE LOISIRS ANIMATIONS
REFRESH-INTERVAL;VALUE=DURATION:PT1H
X-Robots-Tag:noindex
X-PUBLISHED-TTL:PT1H
BEGIN:VTIMEZONE
TZID:Europe/Paris
BEGIN:DAYLIGHT
TZOFFSETFROM:+0100
TZOFFSETTO:+0200
TZNAME:CEST
DTSTART:20230326T010000
END:DAYLIGHT
BEGIN:STANDARD
TZOFFSETFROM:+0200
TZOFFSETTO:+0100
TZNAME:CET
DTSTART:20231029T010000
END:STANDARD
BEGIN:DAYLIGHT
TZOFFSETFROM:+0100
TZOFFSETTO:+0200
TZNAME:CEST
DTSTART:20240331T010000
END:DAYLIGHT
BEGIN:STANDARD
TZOFFSETFROM:+0200
TZOFFSETTO:+0100
TZNAME:CET
DTSTART:20241027T010000
END:STANDARD
BEGIN:DAYLIGHT
TZOFFSETFROM:+0100
TZOFFSETTO:+0200
TZNAME:CEST
DTSTART:20250330T010000
END:DAYLIGHT
BEGIN:STANDARD
TZOFFSETFROM:+0200
TZOFFSETTO:+0100
TZNAME:CET
DTSTART:20251026T010000
END:STANDARD
END:VTIMEZONE
BEGIN:VEVENT
DTSTART;TZID=Europe/Paris:20240504T203000
DTEND;TZID=Europe/Paris:20240504T220000
DTSTAMP:20260420T031000
CREATED:20240423T100910Z
LAST-MODIFIED:20240423T100910Z
UID:6694-1714854600-1714860000@www.eauze-ecla.org
SUMMARY:SKETCHS PAR LE THEATRE D'ECLA
DESCRIPTION:L’Atelier Théâtre de l’ECLA avec la troupe adulte et les élèves pré-ados vous présentent un spectacle composé de solos et de duos de différents auteurs en ce samedi 4 mai à 20 h 30 – Un tarif unique de 5 € pour tout le monde et un pot amical sera partagé en fin de représentation.\nLa troupe est constituée de comédiens nouvellement arrivés cette année et d’anciens ayant déjà participé à notre dernière pièce « Place de l’horloge »\, et nous avons le plaisir d’accueillir nos jeunes filles apprenties comédiennes qui en avant première\, présenteront des solos et duos… \nPour les adultes comme pour les jeunes\, il s’agit d’une restitution du travail au sein des ateliers tout au long de l’année… Travail sur la création et l’incarnation d’un personnage\, comment le restituer sur scène chacun à sa manière… \nIl n’y a pas d’histoire\, les sketchs sont indépendants mais restitués en un seul lieu\, la scène\, comme un groupe d’amis qui se retrouve pour partager leurs histoires\, leur ressenti\, leurs doutes ou leurs craintes ou leurs coups de colère…
URL:https://www.eauze-ecla.org/event/sketchs-par-le-theatre-decla/
LOCATION:Cinéma Théâtre d’EAUZE
CATEGORIES:AGENDA,EVENEMENT
ATTACH;FMTTYPE=image/jpeg:https://www.eauze-ecla.org/wp-content/uploads/2024/04/affiche-20-avril.jpg
END:VEVENT
END:VCALENDAR