BEGIN:VCALENDAR
VERSION:2.0
PRODID:-//ÉAUZE CULTURE LOISIRS ANIMATIONS - ECPv6.15.20//NONSGML v1.0//EN
CALSCALE:GREGORIAN
METHOD:PUBLISH
X-ORIGINAL-URL:https://www.eauze-ecla.org
X-WR-CALDESC:Évènements pour ÉAUZE CULTURE LOISIRS ANIMATIONS
REFRESH-INTERVAL;VALUE=DURATION:PT1H
X-Robots-Tag:noindex
X-PUBLISHED-TTL:PT1H
BEGIN:VTIMEZONE
TZID:Europe/Paris
BEGIN:DAYLIGHT
TZOFFSETFROM:+0100
TZOFFSETTO:+0200
TZNAME:CEST
DTSTART:20210328T010000
END:DAYLIGHT
BEGIN:STANDARD
TZOFFSETFROM:+0200
TZOFFSETTO:+0100
TZNAME:CET
DTSTART:20211031T010000
END:STANDARD
BEGIN:DAYLIGHT
TZOFFSETFROM:+0100
TZOFFSETTO:+0200
TZNAME:CEST
DTSTART:20220327T010000
END:DAYLIGHT
BEGIN:STANDARD
TZOFFSETFROM:+0200
TZOFFSETTO:+0100
TZNAME:CET
DTSTART:20221030T010000
END:STANDARD
BEGIN:DAYLIGHT
TZOFFSETFROM:+0100
TZOFFSETTO:+0200
TZNAME:CEST
DTSTART:20230326T010000
END:DAYLIGHT
BEGIN:STANDARD
TZOFFSETFROM:+0200
TZOFFSETTO:+0100
TZNAME:CET
DTSTART:20231029T010000
END:STANDARD
END:VTIMEZONE
BEGIN:VEVENT
DTSTART;TZID=Europe/Paris:20221123T160000
DTEND;TZID=Europe/Paris:20221123T170000
DTSTAMP:20260424T213025
CREATED:20221112T204410Z
LAST-MODIFIED:20221112T204422Z
UID:4685-1669219200-1669222800@www.eauze-ecla.org
SUMMARY:CONCERT GABRIELLE ALYA
DESCRIPTION:UNE GOUTTE D’EAU DANS LA MER \nConcert de Gabrielle ALYA à la Médiathèque \nmercredi 23 novembre à 16 h 00 \nMédiathèque d’Eauze \n 
URL:https://www.eauze-ecla.org/event/concert-gabrielle-alya/
LOCATION:MEDIATHEQUE EAUZE\, 23 BD ST BLANCAT\, EAUZE\, France
CATEGORIES:AGENDA
ATTACH;FMTTYPE=image/jpeg:https://www.eauze-ecla.org/wp-content/uploads/2022/11/Affiche-23-novembre-2022-Eauze.jpeg
END:VEVENT
END:VCALENDAR