BEGIN:VCALENDAR
VERSION:2.0
PRODID:-//ÉAUZE CULTURE LOISIRS ANIMATIONS - ECPv6.15.20//NONSGML v1.0//EN
CALSCALE:GREGORIAN
METHOD:PUBLISH
X-ORIGINAL-URL:https://www.eauze-ecla.org
X-WR-CALDESC:Évènements pour ÉAUZE CULTURE LOISIRS ANIMATIONS
REFRESH-INTERVAL;VALUE=DURATION:PT1H
X-Robots-Tag:noindex
X-PUBLISHED-TTL:PT1H
BEGIN:VTIMEZONE
TZID:Europe/Paris
BEGIN:DAYLIGHT
TZOFFSETFROM:+0100
TZOFFSETTO:+0200
TZNAME:CEST
DTSTART:20220327T010000
END:DAYLIGHT
BEGIN:STANDARD
TZOFFSETFROM:+0200
TZOFFSETTO:+0100
TZNAME:CET
DTSTART:20221030T010000
END:STANDARD
BEGIN:DAYLIGHT
TZOFFSETFROM:+0100
TZOFFSETTO:+0200
TZNAME:CEST
DTSTART:20230326T010000
END:DAYLIGHT
BEGIN:STANDARD
TZOFFSETFROM:+0200
TZOFFSETTO:+0100
TZNAME:CET
DTSTART:20231029T010000
END:STANDARD
BEGIN:DAYLIGHT
TZOFFSETFROM:+0100
TZOFFSETTO:+0200
TZNAME:CEST
DTSTART:20240331T010000
END:DAYLIGHT
BEGIN:STANDARD
TZOFFSETFROM:+0200
TZOFFSETTO:+0100
TZNAME:CET
DTSTART:20241027T010000
END:STANDARD
END:VTIMEZONE
BEGIN:VEVENT
DTSTART;TZID=Europe/Paris:20230909T100000
DTEND;TZID=Europe/Paris:20230909T160000
DTSTAMP:20260424T092611
CREATED:20230822T180135Z
LAST-MODIFIED:20230822T180154Z
UID:5984-1694253600-1694275200@www.eauze-ecla.org
SUMMARY:FORUM DES ASSOCIATIONS 2023
DESCRIPTION:L’Association E.C.L.A. sera présente sur le FORUM des Associations samedi 9 septembre prochain avec une majorité de ses responsables d’Ateliers\, animateurs et intervenants  pour vous renseigner\, vous conseiller sur un choix d’activités pour toute la famille… \nVenez échanger avec nous… \ntél Présidente E.C.L.A. : 06.32.34.11.00
URL:https://www.eauze-ecla.org/event/forum-des-associations-2023/
LOCATION:STADE MUNICIPAL EAUZE\, 32800 EAUZE\, 32800
CATEGORIES:AGENDA
ATTACH;FMTTYPE=image/png:https://www.eauze-ecla.org/wp-content/uploads/2023/08/FLYER-FORUM.png
END:VEVENT
END:VCALENDAR